Package: biodbHmdb Version: 1.10.2 Maintainer: Pierrick Roger MaintainerEmail: pierrick.roger at cea.fr git_url: https://git.bioconductor.org/packages/biodbHmdb git_branch: RELEASE_3_19 git_last_commit: 86c2780 git_last_commit_date: 2024-09-30 04:28:41 -0400 (Mon, 30 Sep 2024)