Package: SimBu Version: 1.6.0 Command: E:\biocbuild\bbs-3.19-bioc\R\bin\R.exe CMD check --no-multiarch --test-dir=longtests --no-stop-on-test-error --no-codoc --no-examples --no-manual --ignore-vignettes --check-subdirs=no SimBu_1.6.0.tar.gz StartedAt: 2024-10-12 16:49:39 -0400 (Sat, 12 Oct 2024) EndedAt: 2024-10-12 16:56:49 -0400 (Sat, 12 Oct 2024) EllapsedTime: 429.9 seconds RetCode: 1 Status: ERROR CheckDir: SimBu.Rcheck Warnings: NA