Package: SimBu Version: 1.6.0 Command: /home/biocbuild/bbs-3.19-bioc/R/bin/R CMD check --test-dir=longtests --no-stop-on-test-error --no-codoc --no-examples --no-manual --ignore-vignettes --check-subdirs=no SimBu_1.6.0.tar.gz StartedAt: 2024-10-12 16:29:24 -0400 (Sat, 12 Oct 2024) EndedAt: 2024-10-12 16:56:21 -0400 (Sat, 12 Oct 2024) EllapsedTime: 1616.2 seconds RetCode: 0 Status: OK CheckDir: SimBu.Rcheck Warnings: 0