Package: SimBu Version: 1.6.0 Command: /Library/Frameworks/R.framework/Resources/bin/R CMD check --test-dir=longtests --no-stop-on-test-error --no-codoc --no-examples --no-manual --ignore-vignettes --check-subdirs=no SimBu_1.6.0.tar.gz StartedAt: 2024-06-08 16:16:58 -0400 (Sat, 08 Jun 2024) EndedAt: 2024-06-08 16:28:08 -0400 (Sat, 08 Jun 2024) EllapsedTime: 669.6 seconds RetCode: 0 Status: OK CheckDir: SimBu.Rcheck Warnings: 0