All our mirrors of open source software are available via http, https, ftp and an onion service. More information about our mirrors including statistics and contact information is available on our mirror info pages.
For information about dotsrc.org and our other services please go to our website.
| File Name ↓ | File Size ↓ | Date ↓ |
|---|---|---|
| Parent directory/ | - | - |
| APAlyzer/ | - | 2024-10-13 03:55:02 |
| CRISPRball/ | - | 2024-10-13 03:55:03 |
| ChromSCape/ | - | 2024-10-13 03:55:03 |
| DelayedMatrixStats/ | - | 2024-10-13 03:55:03 |
| DropletUtils/ | - | 2024-10-13 03:55:03 |
| EpiMix/ | - | 2024-10-13 03:55:03 |
| GenomicFeatures/ | - | 2024-10-13 03:55:03 |
| HDF5Array/ | - | 2024-10-13 03:55:03 |
| MungeSumstats/ | - | 2024-10-13 03:55:03 |
| SimBu/ | - | 2024-10-13 03:55:03 |
| TENxIO/ | - | 2024-10-13 03:55:03 |
| autonomics/ | - | 2024-10-13 03:55:02 |
| basilisk/ | - | 2024-10-13 03:55:02 |
| beachmat/ | - | 2024-10-13 03:55:02 |
| biodb/ | - | 2024-10-13 03:55:02 |
| biodbChebi/ | - | 2024-10-13 03:55:02 |
| biodbExpasy/ | - | 2024-10-13 03:55:03 |
| biodbHmdb/ | - | 2024-10-13 03:55:03 |
| biodbKegg/ | - | 2024-10-13 03:55:03 |
| biodbLipidmaps/ | - | 2024-10-13 03:55:03 |
| biodbNcbi/ | - | 2024-10-13 03:55:03 |
| biodbNci/ | - | 2024-10-13 03:55:03 |
| biodbUniprot/ | - | 2024-10-13 03:55:03 |
| cBioPortalData/ | - | 2024-10-13 03:55:03 |
| clusterExperiment/ | - | 2024-10-13 03:55:03 |
| crisprScore/ | - | 2024-10-13 03:55:03 |
| extraChIPs/ | - | 2024-10-13 03:55:03 |
| ginmappeR/ | - | 2024-10-13 03:55:03 |
| midasHLA/ | - | 2024-10-13 03:55:03 |
| mosdef/ | - | 2024-10-13 03:55:03 |
| rhdf5/ | - | 2024-10-13 03:55:03 |
| xcms/ | - | 2024-10-13 03:55:03 |
| zellkonverter/ | - | 2024-10-13 03:55:03 |
| 120px-Blue_Light_Icon.svg.png | 7.1 KiB | 2024-10-13 03:55:02 |
| 120px-Green_Light_Icon.svg.png | 7.1 KiB | 2024-10-13 03:55:02 |
| 120px-Red_Light_Icon.svg.png | 7.0 KiB | 2024-10-13 03:55:02 |
| BUILD_STATUS_DB.txt | 6.6 KiB | 2024-10-13 03:55:02 |
| DEVEL3b.png | 2.6 KiB | 2024-10-13 03:55:02 |
| Renviron.bioc | 3.2 KiB | 2024-10-13 03:55:02 |
| index.html | 85.6 KiB | 2024-10-13 03:55:03 |
| lconway-NodeInfo.html | 6.6 KiB | 2024-06-09 03:55:02 |
| lconway-R-instpkgs.html | 605.6 KiB | 2024-06-09 03:55:02 |
| lconway-index.html | 25.9 KiB | 2024-06-09 03:55:03 |
| meat-index.dcf | 3.4 KiB | 2024-10-13 03:55:02 |
| merida1-NodeInfo.html | 6.6 KiB | 2024-10-13 03:55:02 |
| merida1-R-instpkgs.html | 606.8 KiB | 2024-10-13 03:55:02 |
| merida1-index.html | 25.9 KiB | 2024-10-13 03:55:03 |
| nebbiolo1-NodeInfo.html | 6.8 KiB | 2024-10-13 03:55:02 |
| nebbiolo1-R-instpkgs.html | 521.8 KiB | 2024-10-13 03:55:02 |
| nebbiolo1-index.html | 26.0 KiB | 2024-10-13 03:55:03 |
| palomino3-NodeInfo.html | 6.8 KiB | 2024-06-23 03:55:02 |
| palomino3-R-instpkgs.html | 461.5 KiB | 2024-06-23 03:55:02 |
| palomino3-index.html | 26.1 KiB | 2024-06-23 03:55:03 |
| palomino7-NodeInfo.html | 6.8 KiB | 2024-10-13 03:55:02 |
| palomino7-R-instpkgs.html | 462.3 KiB | 2024-10-13 03:55:02 |
| palomino7-index.html | 26.0 KiB | 2024-10-13 03:55:03 |
| report.css | 10.7 KiB | 2024-10-13 03:55:02 |
| report.js | 6.0 KiB | 2024-10-13 03:55:02 |
| report.tgz | 4.1 MiB | 2024-10-13 03:55:04 |
| skipped-index.dcf | 0 B | 2024-10-13 03:55:02 |