Package: zlibbioc Version: 1.50.0 Command: rm -rf zlibbioc.buildbin-libdir && mkdir zlibbioc.buildbin-libdir && E:\biocbuild\bbs-3.19-bioc\R\bin\R.exe CMD INSTALL --build --library=zlibbioc.buildbin-libdir zlibbioc_1.50.0.tar.gz StartedAt: 2024-10-17 08:51:43 -0400 (Thu, 17 Oct 2024) EndedAt: 2024-10-17 08:51:56 -0400 (Thu, 17 Oct 2024) EllapsedTime: 13.3 seconds RetCode: 0 Status: OK PackageFile: zlibbioc_1.50.0.zip PackageFileSize: 368.7 KiB