Package: zlibbioc Version: 1.50.0 Command: /Library/Frameworks/R.framework/Resources/bin/R CMD build --keep-empty-dirs --no-resave-data zlibbioc StartedAt: 2024-10-17 00:21:28 -0400 (Thu, 17 Oct 2024) EndedAt: 2024-10-17 00:21:42 -0400 (Thu, 17 Oct 2024) EllapsedTime: 14.4 seconds RetCode: 0 Status: OK PackageFile: zlibbioc_1.50.0.tar.gz PackageFileSize: 373.7 KiB