Package: zlibbioc Version: 1.50.0 Command: /Library/Frameworks/R.framework/Resources/bin/R CMD build --keep-empty-dirs --no-resave-data zlibbioc StartedAt: 2024-10-17 11:40:49 -0400 (Thu, 17 Oct 2024) EndedAt: 2024-10-17 11:40:59 -0400 (Thu, 17 Oct 2024) EllapsedTime: 10.3 seconds RetCode: 0 Status: OK PackageFile: zlibbioc_1.50.0.tar.gz PackageFileSize: 373.7 KiB