Package: zlibbioc Version: 1.50.0 Command: rm -rf zlibbioc.buildbin-libdir && mkdir zlibbioc.buildbin-libdir && /Users/biocbuild/BBS/utils/build-universal.sh zlibbioc_1.50.0.tar.gz /Library/Frameworks/R.framework/Resources/bin/R zlibbioc.buildbin-libdir StartedAt: 2024-10-15 20:52:12 -0400 (Tue, 15 Oct 2024) EndedAt: 2024-10-15 20:52:22 -0400 (Tue, 15 Oct 2024) EllapsedTime: 9.6 seconds RetCode: 0 Status: OK PackageFile: zlibbioc_1.50.0.tgz PackageFileSize: 226.9 KiB