Package: zinbwave Version: 1.26.0 Command: rm -rf zinbwave.buildbin-libdir && mkdir zinbwave.buildbin-libdir && E:\biocbuild\bbs-3.19-bioc\R\bin\R.exe CMD INSTALL --build --library=zinbwave.buildbin-libdir zinbwave_1.26.0.tar.gz StartedAt: 2024-10-17 08:51:41 -0400 (Thu, 17 Oct 2024) EndedAt: 2024-10-17 08:52:32 -0400 (Thu, 17 Oct 2024) EllapsedTime: 51.3 seconds RetCode: 0 Status: OK PackageFile: zinbwave_1.26.0.zip PackageFileSize: 846.7 KiB