Package: zinbwave Version: 1.26.0 Command: F:\biocbuild\bbs-3.19-bioc\R\bin\R.exe CMD INSTALL zinbwave StartedAt: 2024-06-26 16:33:49 -0400 (Wed, 26 Jun 2024) EndedAt: 2024-06-26 16:34:43 -0400 (Wed, 26 Jun 2024) EllapsedTime: 53.3 seconds RetCode: 0 Status: OK