Package: zinbwave Version: 1.26.0 Command: chmod a+r zinbwave -R && F:\biocbuild\bbs-3.19-bioc\R\bin\R.exe CMD build --keep-empty-dirs --no-resave-data zinbwave StartedAt: 2024-06-26 22:37:58 -0400 (Wed, 26 Jun 2024) EndedAt: 2024-06-26 22:40:33 -0400 (Wed, 26 Jun 2024) EllapsedTime: 154.7 seconds RetCode: 0 Status: OK PackageFile: zinbwave_1.26.0.tar.gz PackageFileSize: 384.8 KiB