Package: zinbwave Version: 1.26.0 Command: /Library/Frameworks/R.framework/Resources/bin/R CMD build --keep-empty-dirs --no-resave-data zinbwave StartedAt: 2024-10-17 00:21:12 -0400 (Thu, 17 Oct 2024) EndedAt: 2024-10-17 00:25:17 -0400 (Thu, 17 Oct 2024) EllapsedTime: 244.9 seconds RetCode: 0 Status: OK PackageFile: zinbwave_1.26.0.tar.gz PackageFileSize: 592.5 KiB