Package: zinbwave Version: 1.26.0 Command: /home/biocbuild/R/R-beta-2024-04-15_r86425/bin/R CMD build --keep-empty-dirs --no-resave-data zinbwave StartedAt: 2024-05-09 04:25:13 -0000 (Thu, 09 May 2024) EndedAt: 2024-05-09 04:28:07 -0000 (Thu, 09 May 2024) EllapsedTime: 174.6 seconds RetCode: 0 Status: OK PackageFile: zinbwave_1.26.0.tar.gz PackageFileSize: 422.7 KiB