Package: zinbwave Version: 1.26.0 Command: /Library/Frameworks/R.framework/Resources/bin/R CMD check --install=check:zinbwave.install-out.txt --library=/Library/Frameworks/R.framework/Resources/library --no-vignettes --timings zinbwave_1.26.0.tar.gz StartedAt: 2024-06-11 09:53:35 -0400 (Tue, 11 Jun 2024) EndedAt: 2024-06-11 10:00:40 -0400 (Tue, 11 Jun 2024) EllapsedTime: 425.0 seconds RetCode: 0 Status: OK CheckDir: zinbwave.Rcheck Warnings: 0