Package: zenith Version: 1.6.0 Command: /home/biocbuild/bbs-3.19-bioc/R/bin/R CMD INSTALL zenith StartedAt: 2024-10-16 16:08:34 -0400 (Wed, 16 Oct 2024) EndedAt: 2024-10-16 16:09:19 -0400 (Wed, 16 Oct 2024) EllapsedTime: 45.0 seconds RetCode: 0 Status: OK