Package: zenith Version: 1.6.0 Command: rm -rf zenith.buildbin-libdir && mkdir zenith.buildbin-libdir && /Users/biocbuild/BBS/utils/build-universal.sh zenith_1.6.0.tar.gz /Library/Frameworks/R.framework/Resources/bin/R zenith.buildbin-libdir StartedAt: 2024-10-17 17:27:49 -0400 (Thu, 17 Oct 2024) EndedAt: 2024-10-17 17:29:01 -0400 (Thu, 17 Oct 2024) EllapsedTime: 71.4 seconds RetCode: 0 Status: OK PackageFile: zenith_1.6.0.tgz PackageFileSize: 745 KiB