Package: zellkonverter Version: 1.14.1 Command: E:\biocbuild\bbs-3.19-bioc\R\bin\R.exe CMD INSTALL zellkonverter StartedAt: 2024-10-16 16:24:16 -0400 (Wed, 16 Oct 2024) EndedAt: 2024-10-16 16:24:46 -0400 (Wed, 16 Oct 2024) EllapsedTime: 29.4 seconds RetCode: 0 Status: OK