Package: zellkonverter Version: 1.14.1 Command: E:\biocbuild\bbs-3.19-bioc\R\bin\R.exe CMD check --no-multiarch --install=check:zellkonverter.install-out.txt --library=E:\biocbuild\bbs-3.19-bioc\R\library --no-vignettes --timings zellkonverter_1.14.1.tar.gz StartedAt: 2024-08-26 06:51:32 -0400 (Mon, 26 Aug 2024) EndedAt: 2024-08-26 07:02:44 -0400 (Mon, 26 Aug 2024) EllapsedTime: 671.2 seconds RetCode: 0 Status: OK CheckDir: zellkonverter.Rcheck Warnings: 0