Package: zellkonverter Version: 1.14.1 Command: rm -rf zellkonverter.buildbin-libdir && mkdir zellkonverter.buildbin-libdir && E:\biocbuild\bbs-3.19-bioc\R\bin\R.exe CMD INSTALL --build --library=zellkonverter.buildbin-libdir zellkonverter_1.14.1.tar.gz StartedAt: 2024-08-26 08:46:26 -0400 (Mon, 26 Aug 2024) EndedAt: 2024-08-26 08:46:58 -0400 (Mon, 26 Aug 2024) EllapsedTime: 32.3 seconds RetCode: 0 Status: OK PackageFile: zellkonverter_1.14.1.zip PackageFileSize: 1.205 MiB