Package: zellkonverter Version: 1.14.1 Command: F:\biocbuild\bbs-3.19-bioc\R\bin\R.exe CMD check --no-multiarch --install=check:zellkonverter.install-out.txt --library=F:\biocbuild\bbs-3.19-bioc\R\library --no-vignettes --timings zellkonverter_1.14.1.tar.gz StartedAt: 2024-06-27 07:26:54 -0400 (Thu, 27 Jun 2024) EndedAt: 2024-06-27 07:38:17 -0400 (Thu, 27 Jun 2024) EllapsedTime: 682.4 seconds RetCode: 0 Status: OK CheckDir: zellkonverter.Rcheck Warnings: 0