Package: zellkonverter Version: 1.14.0 Command: /Library/Frameworks/R.framework/Resources/bin/R CMD INSTALL zellkonverter StartedAt: 2024-06-09 15:11:24 -0400 (Sun, 09 Jun 2024) EndedAt: 2024-06-09 15:11:50 -0400 (Sun, 09 Jun 2024) EllapsedTime: 25.5 seconds RetCode: 0 Status: OK