Package: zellkonverter Version: 1.14.0 Command: /home/biocbuild/R/R-beta-2024-04-15_r86425/bin/R CMD check --install=check:zellkonverter.install-out.txt --library=/home/biocbuild/R/R-beta-2024-04-15_r86425/site-library --no-vignettes --timings zellkonverter_1.14.0.tar.gz StartedAt: 2024-05-08 13:11:35 -0000 (Wed, 08 May 2024) EndedAt: 2024-05-08 13:23:33 -0000 (Wed, 08 May 2024) EllapsedTime: 718.2 seconds RetCode: 1 Status: ERROR CheckDir: zellkonverter.Rcheck Warnings: NA