Package: zellkonverter Version: 1.14.0 Command: /home/biocbuild/R/R-beta-2024-04-15_r86425/bin/R CMD build --keep-empty-dirs --no-resave-data zellkonverter StartedAt: 2024-05-09 04:24:55 -0000 (Thu, 09 May 2024) EndedAt: 2024-05-09 04:26:12 -0000 (Thu, 09 May 2024) EllapsedTime: 77.1 seconds RetCode: 0 Status: OK PackageFile: zellkonverter_1.14.0.tar.gz PackageFileSize: 1.189 MiB