Package: zellkonverter Version: 1.14.0 Command: /Library/Frameworks/R.framework/Resources/bin/R CMD INSTALL zellkonverter StartedAt: 2024-06-09 15:20:15 -0400 (Sun, 09 Jun 2024) EndedAt: 2024-06-09 15:20:43 -0400 (Sun, 09 Jun 2024) EllapsedTime: 27.9 seconds RetCode: 0 Status: OK