Package: zellkonverter Version: 1.14.0 Command: /Library/Frameworks/R.framework/Resources/bin/R CMD check --install=check:zellkonverter.install-out.txt --library=/Library/Frameworks/R.framework/Resources/library --no-vignettes --timings zellkonverter_1.14.0.tar.gz StartedAt: 2024-06-11 09:48:33 -0400 (Tue, 11 Jun 2024) EndedAt: 2024-06-11 10:02:31 -0400 (Tue, 11 Jun 2024) EllapsedTime: 837.8 seconds RetCode: 1 Status: ERROR CheckDir: zellkonverter.Rcheck Warnings: NA