Package: zellkonverter Version: 1.14.1 Command: /Library/Frameworks/R.framework/Resources/bin/R CMD INSTALL zellkonverter StartedAt: 2024-10-16 15:59:01 -0400 (Wed, 16 Oct 2024) EndedAt: 2024-10-16 15:59:25 -0400 (Wed, 16 Oct 2024) EllapsedTime: 23.3 seconds RetCode: 0 Status: OK