Package: zellkonverter Version: 1.14.1 Command: rm -rf zellkonverter.buildbin-libdir && mkdir zellkonverter.buildbin-libdir && /Users/biocbuild/BBS/utils/build-universal.sh zellkonverter_1.14.1.tar.gz /Library/Frameworks/R.framework/Resources/bin/R zellkonverter.buildbin-libdir StartedAt: 2024-10-15 20:51:20 -0400 (Tue, 15 Oct 2024) EndedAt: 2024-10-15 20:51:49 -0400 (Tue, 15 Oct 2024) EllapsedTime: 29.4 seconds RetCode: 0 Status: OK PackageFile: zellkonverter_1.14.1.tgz PackageFileSize: 1.208 MiB