Package: zFPKM Version: 1.26.0 Command: E:\biocbuild\bbs-3.19-bioc\R\bin\R.exe CMD INSTALL zFPKM StartedAt: 2024-10-16 16:20:03 -0400 (Wed, 16 Oct 2024) EndedAt: 2024-10-16 16:20:28 -0400 (Wed, 16 Oct 2024) EllapsedTime: 24.6 seconds RetCode: 0 Status: OK