Package: zFPKM Version: 1.26.0 Command: chmod a+r zFPKM -R && E:\biocbuild\bbs-3.19-bioc\R\bin\R.exe CMD build --keep-empty-dirs --no-resave-data zFPKM StartedAt: 2024-10-16 22:34:23 -0400 (Wed, 16 Oct 2024) EndedAt: 2024-10-16 22:35:24 -0400 (Wed, 16 Oct 2024) EllapsedTime: 60.9 seconds RetCode: 0 Status: OK PackageFile: zFPKM_1.26.0.tar.gz PackageFileSize: 57.14 KiB