Package: zFPKM Version: 1.26.0 Command: rm -rf zFPKM.buildbin-libdir && mkdir zFPKM.buildbin-libdir && E:\biocbuild\bbs-3.19-bioc\R\bin\R.exe CMD INSTALL --build --library=zFPKM.buildbin-libdir zFPKM_1.26.0.tar.gz StartedAt: 2024-10-17 08:51:39 -0400 (Thu, 17 Oct 2024) EndedAt: 2024-10-17 08:52:02 -0400 (Thu, 17 Oct 2024) EllapsedTime: 22.5 seconds RetCode: 0 Status: OK PackageFile: zFPKM_1.26.0.zip PackageFileSize: 77.74 KiB