Package: zFPKM Version: 1.26.0 Command: /home/biocbuild/bbs-3.19-bioc/R/bin/R CMD check --install=check:zFPKM.install-out.txt --library=/home/biocbuild/bbs-3.19-bioc/R/site-library --timings zFPKM_1.26.0.tar.gz StartedAt: 2024-10-17 06:24:07 -0400 (Thu, 17 Oct 2024) EndedAt: 2024-10-17 06:26:59 -0400 (Thu, 17 Oct 2024) EllapsedTime: 172.6 seconds RetCode: 0 Status: OK CheckDir: zFPKM.Rcheck Warnings: 0