Package: zFPKM Version: 1.26.0 Command: /Library/Frameworks/R.framework/Resources/bin/R CMD INSTALL zFPKM StartedAt: 2024-10-16 15:19:27 -0400 (Wed, 16 Oct 2024) EndedAt: 2024-10-16 15:20:21 -0400 (Wed, 16 Oct 2024) EllapsedTime: 53.2 seconds RetCode: 0 Status: OK