Package: zFPKM Version: 1.26.0 Command: rm -rf zFPKM.buildbin-libdir && mkdir zFPKM.buildbin-libdir && /Users/biocbuild/BBS/utils/build-universal.sh zFPKM_1.26.0.tar.gz /Library/Frameworks/R.framework/Resources/bin/R zFPKM.buildbin-libdir StartedAt: 2024-10-17 17:27:49 -0400 (Thu, 17 Oct 2024) EndedAt: 2024-10-17 17:28:39 -0400 (Thu, 17 Oct 2024) EllapsedTime: 49.9 seconds RetCode: 0 Status: OK PackageFile: zFPKM_1.26.0.tgz PackageFileSize: 222.4 KiB