Package: zFPKM Version: 1.26.0 Command: rm -rf zFPKM.buildbin-libdir && mkdir zFPKM.buildbin-libdir && /Users/biocbuild/BBS/utils/build-universal.sh zFPKM_1.26.0.tar.gz /Library/Frameworks/R.framework/Resources/bin/R zFPKM.buildbin-libdir StartedAt: 2024-10-15 20:51:40 -0400 (Tue, 15 Oct 2024) EndedAt: 2024-10-15 20:52:12 -0400 (Tue, 15 Oct 2024) EllapsedTime: 32.1 seconds RetCode: 0 Status: OK PackageFile: zFPKM_1.26.0.tgz PackageFileSize: 223.3 KiB