Package: yarn Version: 1.30.0 Command: rm -rf yarn.buildbin-libdir && mkdir yarn.buildbin-libdir && F:\biocbuild\bbs-3.19-bioc\R\bin\R.exe CMD INSTALL --build --library=yarn.buildbin-libdir yarn_1.30.0.tar.gz StartedAt: 2024-06-27 09:06:51 -0400 (Thu, 27 Jun 2024) EndedAt: 2024-06-27 09:07:44 -0400 (Thu, 27 Jun 2024) EllapsedTime: 53.0 seconds RetCode: 0 Status: OK PackageFile: yarn_1.30.0.zip PackageFileSize: 4.118 MiB