Package: yarn Version: 1.30.0 Command: /Library/Frameworks/R.framework/Resources/bin/R CMD INSTALL yarn StartedAt: 2024-10-16 16:47:37 -0400 (Wed, 16 Oct 2024) EndedAt: 2024-10-16 16:49:20 -0400 (Wed, 16 Oct 2024) EllapsedTime: 102.5 seconds RetCode: 0 Status: OK