Package: yarn Version: 1.30.0 Command: rm -rf yarn.buildbin-libdir && mkdir yarn.buildbin-libdir && /Users/biocbuild/BBS/utils/build-universal.sh yarn_1.30.0.tar.gz /Library/Frameworks/R.framework/Resources/bin/R yarn.buildbin-libdir StartedAt: 2024-10-17 17:27:40 -0400 (Thu, 17 Oct 2024) EndedAt: 2024-10-17 17:29:09 -0400 (Thu, 17 Oct 2024) EllapsedTime: 88.7 seconds RetCode: 0 Status: OK PackageFile: yarn_1.30.0.tgz PackageFileSize: 4.241 MiB