Package: yarn Version: 1.30.0 Command: rm -rf yarn.buildbin-libdir && mkdir yarn.buildbin-libdir && /Users/biocbuild/BBS/utils/build-universal.sh yarn_1.30.0.tar.gz /Library/Frameworks/R.framework/Resources/bin/R yarn.buildbin-libdir StartedAt: 2024-06-10 00:45:50 -0400 (Mon, 10 Jun 2024) EndedAt: 2024-06-10 00:46:39 -0400 (Mon, 10 Jun 2024) EllapsedTime: 48.4 seconds RetCode: 0 Status: OK PackageFile: yarn_1.30.0.tgz PackageFileSize: 4.242 MiB