Package: yarn Version: 1.30.0 Command: /Library/Frameworks/R.framework/Resources/bin/R CMD check --install=check:yarn.install-out.txt --library=/Library/Frameworks/R.framework/Resources/library --no-vignettes --timings yarn_1.30.0.tar.gz StartedAt: 2024-06-11 09:48:19 -0400 (Tue, 11 Jun 2024) EndedAt: 2024-06-11 09:58:50 -0400 (Tue, 11 Jun 2024) EllapsedTime: 631.4 seconds RetCode: 0 Status: OK CheckDir: yarn.Rcheck Warnings: 0