Package: yarn Version: 1.30.0 Command: rm -rf yarn.buildbin-libdir && mkdir yarn.buildbin-libdir && /Users/biocbuild/BBS/utils/build-universal.sh yarn_1.30.0.tar.gz /Library/Frameworks/R.framework/Resources/bin/R yarn.buildbin-libdir StartedAt: 2024-06-11 13:44:54 -0400 (Tue, 11 Jun 2024) EndedAt: 2024-06-11 13:46:12 -0400 (Tue, 11 Jun 2024) EllapsedTime: 78.2 seconds RetCode: 0 Status: OK PackageFile: yarn_1.30.0.tgz PackageFileSize: 4.241 MiB