Package: yamss Version: 1.30.0 Command: /home/biocbuild/bbs-3.19-bioc/R/bin/R CMD INSTALL yamss StartedAt: 2024-10-16 16:17:49 -0400 (Wed, 16 Oct 2024) EndedAt: 2024-10-16 16:18:16 -0400 (Wed, 16 Oct 2024) EllapsedTime: 26.4 seconds RetCode: 0 Status: OK