Package: yamss Version: 1.30.0 Command: /Library/Frameworks/R.framework/Resources/bin/R CMD check --install=check:yamss.install-out.txt --library=/Library/Frameworks/R.framework/Resources/library --no-vignettes --timings yamss_1.30.0.tar.gz StartedAt: 2024-10-18 16:53:00 -0400 (Fri, 18 Oct 2024) EndedAt: 2024-10-18 16:57:17 -0400 (Fri, 18 Oct 2024) EllapsedTime: 257.5 seconds RetCode: 0 Status: OK CheckDir: yamss.Rcheck Warnings: 0