Package: xmapbridge Version: 1.62.0 Command: chmod a+r xmapbridge -R && E:\biocbuild\bbs-3.19-bioc\R\bin\R.exe CMD build --keep-empty-dirs --no-resave-data xmapbridge StartedAt: 2024-10-16 22:33:30 -0400 (Wed, 16 Oct 2024) EndedAt: 2024-10-16 22:34:47 -0400 (Wed, 16 Oct 2024) EllapsedTime: 76.9 seconds RetCode: 0 Status: OK PackageFile: xmapbridge_1.62.0.tar.gz PackageFileSize: 2.904 MiB