Package: xmapbridge Version: 1.62.0 Command: rm -rf xmapbridge.buildbin-libdir && mkdir xmapbridge.buildbin-libdir && E:\biocbuild\bbs-3.19-bioc\R\bin\R.exe CMD INSTALL --build --library=xmapbridge.buildbin-libdir xmapbridge_1.62.0.tar.gz StartedAt: 2024-10-17 08:51:22 -0400 (Thu, 17 Oct 2024) EndedAt: 2024-10-17 08:51:43 -0400 (Thu, 17 Oct 2024) EllapsedTime: 20.4 seconds RetCode: 0 Status: OK PackageFile: xmapbridge_1.62.0.zip PackageFileSize: 1.647 MiB