Package: xmapbridge Version: 1.62.0 Command: rm -rf xmapbridge.buildbin-libdir && mkdir xmapbridge.buildbin-libdir && F:\biocbuild\bbs-3.19-bioc\R\bin\R.exe CMD INSTALL --build --library=xmapbridge.buildbin-libdir xmapbridge_1.62.0.tar.gz StartedAt: 2024-06-27 09:06:40 -0400 (Thu, 27 Jun 2024) EndedAt: 2024-06-27 09:06:57 -0400 (Thu, 27 Jun 2024) EllapsedTime: 17.2 seconds RetCode: 0 Status: OK PackageFile: xmapbridge_1.62.0.zip PackageFileSize: 1.646 MiB