Package: xmapbridge Version: 1.62.0 Command: /Library/Frameworks/R.framework/Resources/bin/R CMD check --install=check:xmapbridge.install-out.txt --library=/Library/Frameworks/R.framework/Resources/library --no-vignettes --timings xmapbridge_1.62.0.tar.gz StartedAt: 2024-10-18 16:50:41 -0400 (Fri, 18 Oct 2024) EndedAt: 2024-10-18 16:51:15 -0400 (Fri, 18 Oct 2024) EllapsedTime: 33.8 seconds RetCode: 0 Status: OK CheckDir: xmapbridge.Rcheck Warnings: 0