Package: xcore Version: 1.8.0 Command: rm -rf xcore.buildbin-libdir && mkdir xcore.buildbin-libdir && /Users/biocbuild/BBS/utils/build-universal.sh xcore_1.8.0.tar.gz /Library/Frameworks/R.framework/Resources/bin/R xcore.buildbin-libdir StartedAt: 2024-06-10 00:45:42 -0400 (Mon, 10 Jun 2024) EndedAt: 2024-06-10 00:46:13 -0400 (Mon, 10 Jun 2024) EllapsedTime: 31.1 seconds RetCode: 0 Status: OK PackageFile: xcore_1.8.0.tgz PackageFileSize: 1.912 MiB