Package: xcore Version: 1.8.0 Command: /Library/Frameworks/R.framework/Resources/bin/R CMD build --keep-empty-dirs --no-resave-data xcore StartedAt: 2024-06-10 06:38:46 -0400 (Mon, 10 Jun 2024) EndedAt: 2024-06-10 06:40:56 -0400 (Mon, 10 Jun 2024) EllapsedTime: 130.2 seconds RetCode: 0 Status: OK PackageFile: xcore_1.8.0.tar.gz PackageFileSize: 2.407 MiB