Package: xcore Version: 1.8.0 Command: /Library/Frameworks/R.framework/Resources/bin/R CMD build --keep-empty-dirs --no-resave-data xcore StartedAt: 2024-10-17 11:34:13 -0400 (Thu, 17 Oct 2024) EndedAt: 2024-10-17 11:36:14 -0400 (Thu, 17 Oct 2024) EllapsedTime: 121.0 seconds RetCode: 0 Status: OK PackageFile: xcore_1.8.0.tar.gz PackageFileSize: 2.407 MiB